BEGIN:VCALENDAR
VERSION:2.0
PRODID:-//Tukios.com/
BEGIN:VEVENT
UID:573428a1-0eb1-4cf1-a620-c4f7ade9da25@www.dundeefh.com
DTSTAMP:20260425T193906Z
DTSTART:20260428T200000Z
DTEND:20260429T010000Z
SUMMARY:Visitation
DESCRIPTION:
URL:https://www.dundeefh.com/obituaries/pedro-gasca-alverez
LOCATION:Dundee Funeral Home 485 Dundee Avenue  East Dundee IL 60118
GEO:42.0964894;-88.2592762
END:VEVENT
END:VCALENDAR